BEGIN:VCALENDAR
VERSION:2.0
PRODID:gruene-dinslaken.de
METHOD:PUBLISH
BEGIN:VTIMEZONE
TZID:Europe/Berlin
X-LIC-LOCATION:Europe/Berlin
BEGIN:DAYLIGHT
TZOFFSETFROM:+0100
TZOFFSETTO:+0200
TZNAME:CEST
DTSTART:19700329T020000
RRULE:FREQ=YEARLY;INTERVAL=1;BYDAY=-1SU;BYMONTH=3
END:DAYLIGHT
BEGIN:STANDARD
TZOFFSETFROM:+0200
TZOFFSETTO:+0100
TZNAME:CET
DTSTART:19701025T030000
RRULE:FREQ=YEARLY;INTERVAL=1;BYDAY=-1SU;BYMONTH=10
END:STANDARD
END:VTIMEZONE
BEGIN:VEVENT
UID:c647d9885fe7d4a10d1c505b721ef791@gruene-dinslaken.de
URL;VALUE=URI:https://gruene-dinslaken.de/termine/fraktionssitzung-13/
LOCATION:Fraktionsgeschäftsstelle
SUMMARY:Fraktionssitzung
DESCRIPTION;ALTREP="data:text/html,":
CLASS:PUBLIC
DTSTART;TZID=Europe/Berlin:20260602T190000
DTEND;TZID=Europe/Berlin:20260602T213000
DTSTAMP:20260421T094651
END:VEVENT
BEGIN:VEVENT
UID:1638d717c5f9f07c9111d077b689068e@gruene-dinslaken.de
URL;VALUE=URI:https://gruene-dinslaken.de/termine/fraktionssitzung-14/
LOCATION:Zoom
SUMMARY:Fraktionssitzung
DESCRIPTION;ALTREP="data:text/html,":
CLASS:PUBLIC
DTSTART;TZID=Europe/Berlin:20260616T190000
DTEND;TZID=Europe/Berlin:20260616T213000
DTSTAMP:20260421T094651
END:VEVENT
BEGIN:VEVENT
UID:6f93b84d007bfb53e9618bb6a71a7795@gruene-dinslaken.de
URL;VALUE=URI:https://gruene-dinslaken.de/termine/mitgliederversammlung-2
 /
LOCATION:Fraktionsgeschäftsstelle
SUMMARY:Mitgliederversammlung
DESCRIPTION;ALTREP="data:text/html,":
CLASS:PUBLIC
DTSTART;TZID=Europe/Berlin:20260624T190000
DTEND;TZID=Europe/Berlin:20260624T213000
DTSTAMP:20260421T094651
END:VEVENT
BEGIN:VEVENT
UID:f4791dc8a5c208e127ab2bc5db528bcd@gruene-dinslaken.de
URL;VALUE=URI:https://gruene-dinslaken.de/termine/fraktionssitzung-15/
LOCATION:Fraktionsgeschäftsstelle
SUMMARY:Fraktionssitzung
DESCRIPTION;ALTREP="data:text/html,":
CLASS:PUBLIC
DTSTART;TZID=Europe/Berlin:20260706T190000
DTEND;TZID=Europe/Berlin:20260706T213000
DTSTAMP:20260421T094651
END:VEVENT
BEGIN:VEVENT
UID:300780467aef0190f8f0f1701fd1c685@gruene-dinslaken.de
URL;VALUE=URI:https://gruene-dinslaken.de/termine/fraktionssitzung-16/
LOCATION:Fraktionsgeschäftsstelle
SUMMARY:Fraktionssitzung
DESCRIPTION;ALTREP="data:text/html,":
CLASS:PUBLIC
DTSTART;TZID=Europe/Berlin:20260908T190000
DTEND;TZID=Europe/Berlin:20260908T213000
DTSTAMP:20260421T094651
END:VEVENT
BEGIN:VEVENT
UID:c41e31928cf56c547a681d92fc3fd885@gruene-dinslaken.de
URL;VALUE=URI:https://gruene-dinslaken.de/termine/fraktionssitzung-17/
LOCATION:Zoom
SUMMARY:Fraktionssitzung
DESCRIPTION;ALTREP="data:text/html,":
CLASS:PUBLIC
DTSTART;TZID=Europe/Berlin:20260922T190000
DTEND;TZID=Europe/Berlin:20260922T213000
DTSTAMP:20260421T094651
END:VEVENT
BEGIN:VEVENT
UID:eb9e02039212ff770fc835898b52d3e1@gruene-dinslaken.de
URL;VALUE=URI:https://gruene-dinslaken.de/termine/mitgliederversammlung-3
 /
LOCATION:Fraktionsgeschäftsstelle
SUMMARY:Mitgliederversammlung
DESCRIPTION;ALTREP="data:text/html,":
CLASS:PUBLIC
DTSTART;TZID=Europe/Berlin:20260924T190000
DTEND;TZID=Europe/Berlin:20260924T213000
DTSTAMP:20260421T094651
END:VEVENT
BEGIN:VEVENT
UID:2c6c317b14adcc449f8252dcb9f51d97@gruene-dinslaken.de
URL;VALUE=URI:https://gruene-dinslaken.de/termine/fraktionssitzung-18/
LOCATION:Fraktionsgeschäftsstelle
SUMMARY:Fraktionssitzung
DESCRIPTION;ALTREP="data:text/html,":
CLASS:PUBLIC
DTSTART;TZID=Europe/Berlin:20261005T190000
DTEND;TZID=Europe/Berlin:20261005T213000
DTSTAMP:20260421T094651
END:VEVENT
BEGIN:VEVENT
UID:635f093335d5b32b18ab0abf707ca7c0@gruene-dinslaken.de
URL;VALUE=URI:https://gruene-dinslaken.de/termine/fraktionssitzung-19/
LOCATION:Fraktionsgeschäftsstelle
SUMMARY:Fraktionssitzung
DESCRIPTION;ALTREP="data:text/html,":
CLASS:PUBLIC
DTSTART;TZID=Europe/Berlin:20261110T190000
DTEND;TZID=Europe/Berlin:20261110T213000
DTSTAMP:20260421T094651
END:VEVENT
BEGIN:VEVENT
UID:7019503c666ed3b994fb8a66dd600908@gruene-dinslaken.de
URL;VALUE=URI:https://gruene-dinslaken.de/termine/fraktionssitzung-20/
LOCATION:Zoom
SUMMARY:Fraktionssitzung
DESCRIPTION;ALTREP="data:text/html,":
CLASS:PUBLIC
DTSTART;TZID=Europe/Berlin:20261124T190000
DTEND;TZID=Europe/Berlin:20261124T213000
DTSTAMP:20260421T094651
END:VEVENT
BEGIN:VEVENT
UID:e8b573ea11967b5ec7f1f68170cc955f@gruene-dinslaken.de
URL;VALUE=URI:https://gruene-dinslaken.de/termine/fraktionssitzung-21/
LOCATION:Fraktionsgeschäftsstelle
SUMMARY:Fraktionssitzung
DESCRIPTION;ALTREP="data:text/html,":
CLASS:PUBLIC
DTSTART;TZID=Europe/Berlin:20261208T190000
DTEND;TZID=Europe/Berlin:20261208T213000
DTSTAMP:20260421T094651
END:VEVENT
BEGIN:VEVENT
UID:cd318a4b27eca62db8e7c0fc5350cf81@gruene-dinslaken.de
URL;VALUE=URI:https://gruene-dinslaken.de/termine/mitgliederversammlung-4
 /
LOCATION:Fraktionsgeschäftsstelle
SUMMARY:Mitgliederversammlung
DESCRIPTION;ALTREP="data:text/html,":
CLASS:PUBLIC
DTSTART;TZID=Europe/Berlin:20261209T190000
DTEND;TZID=Europe/Berlin:20261209T213000
DTSTAMP:20260421T094651
END:VEVENT
END:VCALENDAR